BEGIN:VCALENDAR
VERSION:2.0
PRODID:-//Kaleidoskop - ECPv6.15.18//NONSGML v1.0//EN
CALSCALE:GREGORIAN
METHOD:PUBLISH
X-ORIGINAL-URL:https://kaleidoskop-hessen.de
X-WR-CALDESC:Events for Kaleidoskop
REFRESH-INTERVAL;VALUE=DURATION:PT1H
X-Robots-Tag:noindex
X-PUBLISHED-TTL:PT1H
BEGIN:VTIMEZONE
TZID:Europe/Berlin
BEGIN:DAYLIGHT
TZOFFSETFROM:+0100
TZOFFSETTO:+0200
TZNAME:CEST
DTSTART:20220327T010000
END:DAYLIGHT
BEGIN:STANDARD
TZOFFSETFROM:+0200
TZOFFSETTO:+0100
TZNAME:CET
DTSTART:20221030T010000
END:STANDARD
BEGIN:DAYLIGHT
TZOFFSETFROM:+0100
TZOFFSETTO:+0200
TZNAME:CEST
DTSTART:20230326T010000
END:DAYLIGHT
BEGIN:STANDARD
TZOFFSETFROM:+0200
TZOFFSETTO:+0100
TZNAME:CET
DTSTART:20231029T010000
END:STANDARD
BEGIN:DAYLIGHT
TZOFFSETFROM:+0100
TZOFFSETTO:+0200
TZNAME:CEST
DTSTART:20240331T010000
END:DAYLIGHT
BEGIN:STANDARD
TZOFFSETFROM:+0200
TZOFFSETTO:+0100
TZNAME:CET
DTSTART:20241027T010000
END:STANDARD
END:VTIMEZONE
BEGIN:VEVENT
DTSTART;TZID=Europe/Berlin:20230920T153000
DTEND;TZID=Europe/Berlin:20230920T163000
DTSTAMP:20260422T004615
CREATED:20230705T202830Z
LAST-MODIFIED:20230705T202830Z
UID:10000055-1695223800-1695227400@kaleidoskop-hessen.de
SUMMARY:Schwarzweißchen
DESCRIPTION:
URL:https://kaleidoskop-hessen.de/event/schwarzweisschen/
LOCATION:Jugendkulturtreff e-werk\, Wallstr. 24\, Bad Homburg v. d. Höhe\, Hessen\, 61348\, Deutschland
END:VEVENT
BEGIN:VEVENT
DTSTART;TZID=Europe/Berlin:20230920T150000
DTEND;TZID=Europe/Berlin:20230920T160000
DTSTAMP:20260422T004615
CREATED:20230705T202404Z
LAST-MODIFIED:20230719T062433Z
UID:10000052-1695222000-1695225600@kaleidoskop-hessen.de
SUMMARY:Nichts oder Herr Käseweis fliegt zum Mond
DESCRIPTION:
URL:https://kaleidoskop-hessen.de/event/nichts-oder-herr-kaeseweis-fliegt-zum-mond-4/
LOCATION:Theater im Palast\, Kochbrunnenplatz 1\, Wiesbaden\, Hessen\, 65183\, Deutschland
END:VEVENT
BEGIN:VEVENT
DTSTART;TZID=Europe/Berlin:20230920T110000
DTEND;TZID=Europe/Berlin:20230920T120000
DTSTAMP:20260422T004615
CREATED:20230705T202623Z
LAST-MODIFIED:20230705T202623Z
UID:10000053-1695207600-1695211200@kaleidoskop-hessen.de
SUMMARY:Diktat
DESCRIPTION:
URL:https://kaleidoskop-hessen.de/event/diktat/
LOCATION:Stadtteilzentrum Schelmengraben\, Wiesbaden\, Hessen\, Deutschland
END:VEVENT
BEGIN:VEVENT
DTSTART;TZID=Europe/Berlin:20230920T093000
DTEND;TZID=Europe/Berlin:20230920T180000
DTSTAMP:20260422T004615
CREATED:20220906T092836Z
LAST-MODIFIED:20230719T064410Z
UID:10000043-1695202200-1695232800@kaleidoskop-hessen.de
SUMMARY:Eröffnung von kaleidoskop 2023
DESCRIPTION:n Kooperation mit dem Theater im Palast und dem Amt für Soziale Arbeit der Stadt Wiesbaden\n09:30 Uhr Theater im Palast:  Nichts oder Herr Käseweis fliegt zum Mond (ab 5 Jahre) – Andreu Andreu\n10:15 Uhr Offizielle Eröffnung kaleidoskop 2023\n10:30 bis 12:00 Uhr Theater im Palast: Workshop Figuren-Basteln aus Recycling-Material mit Andreu Andreu\n11:00 Uhr Stadtteilzentrum Schelmengraben: Diktat (ab 10 Jahre) – Brachland-Ensemble\n13:00 Uhr Spielplatz\, Kochbrunnenplatz: „Schöne Formen brauchen Farbe“ – Partizipatives Schildermalen\n15:00 Uhr Theater im Palast: Nichts oder Herr Käseweis fliegt zum Mond (ab 5 Jahre) – Andreu Andreu\n17:00 Uhr Stadtteilzentrum Schelmengraben: Diktat (ab 10 Jahre) – Brachland-Ensemble
URL:https://kaleidoskop-hessen.de/event/die-schlautauben-und-das-ganze-gefuehlsdingsda/
LOCATION:Theater im Palast\, Kochbrunnenplatz 1\, Wiesbaden\, Hessen\, 65183\, Deutschland
END:VEVENT
BEGIN:VEVENT
DTSTART;TZID=Europe/Berlin:20230920T093000
DTEND;TZID=Europe/Berlin:20230920T103000
DTSTAMP:20260422T004615
CREATED:20230705T202313Z
LAST-MODIFIED:20230705T202313Z
UID:10000051-1695202200-1695205800@kaleidoskop-hessen.de
SUMMARY:Nichts oder Herr Käseweis fliegt zum Mond
DESCRIPTION:
URL:https://kaleidoskop-hessen.de/event/nichts-oder-herr-kaeseweis-fliegt-zum-mond-3/
LOCATION:Theater im Palast\, Kochbrunnenplatz 1\, Wiesbaden\, Hessen\, 65183\, Deutschland
END:VEVENT
BEGIN:VEVENT
DTSTART;TZID=Europe/Berlin:20230919T113000
DTEND;TZID=Europe/Berlin:20230919T123000
DTSTAMP:20260422T004615
CREATED:20230705T200714Z
LAST-MODIFIED:20230705T201920Z
UID:10000050-1695123000-1695126600@kaleidoskop-hessen.de
SUMMARY:Nichts oder Herr Käseweis fliegt zum Mond
DESCRIPTION:
URL:https://kaleidoskop-hessen.de/event/nichts-oder-herr-kaeseweis-fliegt-zum-mond-2/
LOCATION:Blumenhof Weilmünster\, Weilstr. 29a\, Weilmünster\, Hessen\, 35789
END:VEVENT
BEGIN:VEVENT
DTSTART;TZID=Europe/Berlin:20230919T100000
DTEND;TZID=Europe/Berlin:20230919T110000
DTSTAMP:20260422T004615
CREATED:20230705T200627Z
LAST-MODIFIED:20230705T200627Z
UID:10000049-1695117600-1695121200@kaleidoskop-hessen.de
SUMMARY:Nichts oder Herr Käseweis fliegt zum Mond
DESCRIPTION:
URL:https://kaleidoskop-hessen.de/event/nichts-oder-herr-kaeseweis-fliegt-zum-mond/
LOCATION:Blumenhof Weilmünster\, Weilstr. 29a\, Weilmünster\, Hessen\, 35789
END:VEVENT
BEGIN:VEVENT
DTSTART;TZID=Europe/Berlin:20230918T100000
DTEND;TZID=Europe/Berlin:20230918T110000
DTSTAMP:20260422T004615
CREATED:20230705T200244Z
LAST-MODIFIED:20230705T200408Z
UID:10000048-1695031200-1695034800@kaleidoskop-hessen.de
SUMMARY:Was schlüpft da aus dem Ei
DESCRIPTION:
URL:https://kaleidoskop-hessen.de/event/was-schluepft-da-aus-dem-ei/
LOCATION:Blumenhof Weilmünster\, Weilstr. 29a\, Weilmünster\, Hessen\, 35789
END:VEVENT
BEGIN:VEVENT
DTSTART;TZID=Europe/Berlin:20230916T150000
DTEND;TZID=Europe/Berlin:20230916T160000
DTSTAMP:20260422T004615
CREATED:20230705T200019Z
LAST-MODIFIED:20230705T200019Z
UID:10000047-1694876400-1694880000@kaleidoskop-hessen.de
SUMMARY:Serafina & der Löwenkönig
DESCRIPTION:
URL:https://kaleidoskop-hessen.de/event/serafina-der-loewenkoenig-2/
LOCATION:Blumenhof Weilmünster\, Weilstr. 29a\, Weilmünster\, Hessen\, 35789
END:VEVENT
BEGIN:VEVENT
DTSTART;TZID=Europe/Berlin:20230915T200000
DTEND;TZID=Europe/Berlin:20230915T210000
DTSTAMP:20260422T004615
CREATED:20230705T195658Z
LAST-MODIFIED:20230705T195658Z
UID:10000045-1694808000-1694811600@kaleidoskop-hessen.de
SUMMARY:All das Schöne
DESCRIPTION:
URL:https://kaleidoskop-hessen.de/event/all-das-schoene/
LOCATION:Blumenhof Weilmünster\, Weilstr. 29a\, Weilmünster\, Hessen\, 35789
END:VEVENT
BEGIN:VEVENT
DTSTART;TZID=Europe/Berlin:20230915T190000
DTEND;TZID=Europe/Berlin:20230915T200000
DTSTAMP:20260422T004615
CREATED:20230705T195350Z
LAST-MODIFIED:20230705T195350Z
UID:10000044-1694804400-1694808000@kaleidoskop-hessen.de
SUMMARY:Blaupause
DESCRIPTION:
URL:https://kaleidoskop-hessen.de/event/blaupause/
LOCATION:Blumenhof Weilmünster\, Weilstr. 29a\, Weilmünster\, Hessen\, 35789
END:VEVENT
BEGIN:VEVENT
DTSTART;TZID=Europe/Berlin:20230915T153000
DTEND;TZID=Europe/Berlin:20230915T163000
DTSTAMP:20260422T004615
CREATED:20230705T195848Z
LAST-MODIFIED:20230705T195848Z
UID:10000046-1694791800-1694795400@kaleidoskop-hessen.de
SUMMARY:Serafina & der Löwenkönig
DESCRIPTION:
URL:https://kaleidoskop-hessen.de/event/serafina-der-loewenkoenig/
LOCATION:Zwischen den Hochhäusern Seligenstadt\, Berliner Straße 28 – 32\, Seligenstadt\, Hessen\, 63500\, Deutschland
END:VEVENT
END:VCALENDAR