BEGIN:VCALENDAR
VERSION:2.0
PRODID:-//Kaleidoskop - ECPv6.15.18//NONSGML v1.0//EN
CALSCALE:GREGORIAN
METHOD:PUBLISH
X-ORIGINAL-URL:https://kaleidoskop-hessen.de
X-WR-CALDESC:Events for Kaleidoskop
REFRESH-INTERVAL;VALUE=DURATION:PT1H
X-Robots-Tag:noindex
X-PUBLISHED-TTL:PT1H
BEGIN:VTIMEZONE
TZID:Europe/Berlin
BEGIN:DAYLIGHT
TZOFFSETFROM:+0100
TZOFFSETTO:+0200
TZNAME:CEST
DTSTART:20230326T010000
END:DAYLIGHT
BEGIN:STANDARD
TZOFFSETFROM:+0200
TZOFFSETTO:+0100
TZNAME:CET
DTSTART:20231029T010000
END:STANDARD
BEGIN:DAYLIGHT
TZOFFSETFROM:+0100
TZOFFSETTO:+0200
TZNAME:CEST
DTSTART:20240331T010000
END:DAYLIGHT
BEGIN:STANDARD
TZOFFSETFROM:+0200
TZOFFSETTO:+0100
TZNAME:CET
DTSTART:20241027T010000
END:STANDARD
BEGIN:DAYLIGHT
TZOFFSETFROM:+0100
TZOFFSETTO:+0200
TZNAME:CEST
DTSTART:20250330T010000
END:DAYLIGHT
BEGIN:STANDARD
TZOFFSETFROM:+0200
TZOFFSETTO:+0100
TZNAME:CET
DTSTART:20251026T010000
END:STANDARD
BEGIN:DAYLIGHT
TZOFFSETFROM:+0100
TZOFFSETTO:+0200
TZNAME:CEST
DTSTART:20260329T010000
END:DAYLIGHT
BEGIN:STANDARD
TZOFFSETFROM:+0200
TZOFFSETTO:+0100
TZNAME:CET
DTSTART:20261025T010000
END:STANDARD
END:VTIMEZONE
BEGIN:VEVENT
DTSTART;TZID=Europe/Berlin:20251107T100000
DTEND;TZID=Europe/Berlin:20251107T110000
DTSTAMP:20260421T120540
CREATED:20250711T081042Z
LAST-MODIFIED:20250831T100547Z
UID:10000167-1762509600-1762513200@kaleidoskop-hessen.de
SUMMARY:Schleichweg (Theater Kunstdünger)
DESCRIPTION:
URL:https://kaleidoskop-hessen.de/event/schleichweg-theater-kunstdunger-3/2025-11-07/3/
LOCATION:Klosterberghalle Langenselbold\, Schloßstraße\, Langenselbold\, Hessen\, 63505\, Deutschland
END:VEVENT
BEGIN:VEVENT
DTSTART;TZID=Europe/Berlin:20251106T112500
DTEND;TZID=Europe/Berlin:20251106T122500
DTSTAMP:20260421T120540
CREATED:20250711T080209Z
LAST-MODIFIED:20250711T080209Z
UID:10000148-1762428300-1762431900@kaleidoskop-hessen.de
SUMMARY:Schleichweg (Theater Kunstdünger)
DESCRIPTION:
URL:https://kaleidoskop-hessen.de/event/schleichweg-theater-kunstdunger-2/2025-11-06/2/
LOCATION:Stadtbibliothek\, Schotten\, Vogelsbergstraße 137 A\, Schotten\, Hessen\, 63679\, Deutschland
END:VEVENT
BEGIN:VEVENT
DTSTART;TZID=Europe/Berlin:20251106T092500
DTEND;TZID=Europe/Berlin:20251106T102500
DTSTAMP:20260421T120540
CREATED:20250711T080209Z
LAST-MODIFIED:20250711T080209Z
UID:10000147-1762421100-1762424700@kaleidoskop-hessen.de
SUMMARY:Schleichweg (Theater Kunstdünger)
DESCRIPTION:
URL:https://kaleidoskop-hessen.de/event/schleichweg-theater-kunstdunger-2/2025-11-06/1/
LOCATION:Stadtbibliothek\, Schotten\, Vogelsbergstraße 137 A\, Schotten\, Hessen\, 63679\, Deutschland
END:VEVENT
BEGIN:VEVENT
DTSTART;TZID=Europe/Berlin:20251104T131500
DTEND;TZID=Europe/Berlin:20251104T143000
DTSTAMP:20260421T120540
CREATED:20250711T083523Z
LAST-MODIFIED:20250831T100717Z
UID:10000153-1762262100-1762266600@kaleidoskop-hessen.de
SUMMARY:Entdeckung der Langsamkeit
DESCRIPTION:(TheaterGrueneSosse)
URL:https://kaleidoskop-hessen.de/event/entdeckung-der-langsamkeit-theatergruenesosse-theaterhaus-ensemble/
LOCATION:Georg-Büchner-Schule Stadtallendorf\, Am Lohpfad 2\, Stadtallendorf\, Hessen\, 35260\, Deutschland
END:VEVENT
BEGIN:VEVENT
DTSTART;TZID=Europe/Berlin:20251102T143000
DTEND;TZID=Europe/Berlin:20251102T153000
DTSTAMP:20260421T120540
CREATED:20250711T075656Z
LAST-MODIFIED:20250711T075806Z
UID:10000146-1762093800-1762097400@kaleidoskop-hessen.de
SUMMARY:Schleichweg (Theater Kunstdünger)
DESCRIPTION:
URL:https://kaleidoskop-hessen.de/event/schleichweg-theater-kunstdunger/
LOCATION:Kino Traumstern Lich
END:VEVENT
BEGIN:VEVENT
DTSTART;TZID=Europe/Berlin:20251028T090000
DTEND;TZID=Europe/Berlin:20251028T100000
DTSTAMP:20260421T120540
CREATED:20250702T085746Z
LAST-MODIFIED:20250831T095348Z
UID:10000134-1761642000-1761645600@kaleidoskop-hessen.de
SUMMARY:punkt punkt komma strich (Theater Monteure)
DESCRIPTION:
URL:https://kaleidoskop-hessen.de/event/punkt-punkt-komma-strich-3/2025-10-28/2/
LOCATION:Evangelisches Gemeindezentrum Seligenstadt\, Aschaffenburger Straße 105\, Seligenstadt\, Hessen\, 63500\, Deutschland
END:VEVENT
BEGIN:VEVENT
DTSTART;TZID=Europe/Berlin:20251028T010000
DTEND;TZID=Europe/Berlin:20251028T120000
DTSTAMP:20260421T120540
CREATED:20250702T085746Z
LAST-MODIFIED:20250831T095348Z
UID:10000133-1761613200-1761652800@kaleidoskop-hessen.de
SUMMARY:punkt punkt komma strich (Theater Monteure)
DESCRIPTION:
URL:https://kaleidoskop-hessen.de/event/punkt-punkt-komma-strich-3/2025-10-28/1/
LOCATION:Evangelisches Gemeindezentrum Seligenstadt\, Aschaffenburger Straße 105\, Seligenstadt\, Hessen\, 63500\, Deutschland
END:VEVENT
BEGIN:VEVENT
DTSTART;TZID=Europe/Berlin:20251024T160000
DTEND;TZID=Europe/Berlin:20251024T170000
DTSTAMP:20260421T120540
CREATED:20250702T105432Z
LAST-MODIFIED:20250711T074300Z
UID:10000144-1761321600-1761325200@kaleidoskop-hessen.de
SUMMARY:elephant walk (Hennermanns Horde)
DESCRIPTION:
URL:https://kaleidoskop-hessen.de/event/elephant-walk-3/
LOCATION:Jugendkulturtreff e-werk\, Wallstr. 24\, Bad Homburg v. d. Höhe\, Hessen\, 61348\, Deutschland
END:VEVENT
BEGIN:VEVENT
DTSTART;TZID=Europe/Berlin:20251021T103000
DTEND;TZID=Europe/Berlin:20251021T113000
DTSTAMP:20260421T120540
CREATED:20250702T085537Z
LAST-MODIFIED:20250711T075239Z
UID:10000132-1761042600-1761046200@kaleidoskop-hessen.de
SUMMARY:punkt punkt komma strich (Theater Monteure)
DESCRIPTION:
URL:https://kaleidoskop-hessen.de/event/punkt-punkt-komma-strich-2/
LOCATION:Adolf-Spieß-Halle\, Vogelsbergstraße 56\, Lauterbach\, Hessen\, 36341\, Deutschland
END:VEVENT
BEGIN:VEVENT
DTSTART;TZID=Europe/Berlin:20250930T102500
DTEND;TZID=Europe/Berlin:20250930T112500
DTSTAMP:20260421T120540
CREATED:20250711T085210Z
LAST-MODIFIED:20250711T085210Z
UID:10000158-1759227900-1759231500@kaleidoskop-hessen.de
SUMMARY:Über das Meer (Freies Theater Fulda)
DESCRIPTION:
URL:https://kaleidoskop-hessen.de/event/uber-das-meer-freies-theater-fulda/2025-09-30/2/
LOCATION:Stadtbibliothek\, Schotten\, Vogelsbergstraße 137 A\, Schotten\, Hessen\, 63679\, Deutschland
END:VEVENT
BEGIN:VEVENT
DTSTART;TZID=Europe/Berlin:20250930T092500
DTEND;TZID=Europe/Berlin:20250930T102500
DTSTAMP:20260421T120540
CREATED:20250711T085210Z
LAST-MODIFIED:20250711T085210Z
UID:10000157-1759224300-1759227900@kaleidoskop-hessen.de
SUMMARY:Über das Meer (Freies Theater Fulda)
DESCRIPTION:
URL:https://kaleidoskop-hessen.de/event/uber-das-meer-freies-theater-fulda/2025-09-30/1/
LOCATION:Stadtbibliothek\, Schotten\, Vogelsbergstraße 137 A\, Schotten\, Hessen\, 63679\, Deutschland
END:VEVENT
BEGIN:VEVENT
DTSTART;TZID=Europe/Berlin:20250925T173000
DTEND;TZID=Europe/Berlin:20250925T183000
DTSTAMP:20260421T120540
CREATED:20250711T091231Z
LAST-MODIFIED:20250831T094617Z
UID:10000161-1758821400-1758825000@kaleidoskop-hessen.de
SUMMARY:Rote Zora (flunker produktionen)
DESCRIPTION:
URL:https://kaleidoskop-hessen.de/event/rote-zora-figurentheater-lehmann-und-wenzel-flunker-produktionen-2/
LOCATION:Michelstadt\, Erbacher Straße 33\, Michelstadt\, Hessen\, 64720
END:VEVENT
BEGIN:VEVENT
DTSTART;TZID=Europe/Berlin:20250925T103000
DTEND;TZID=Europe/Berlin:20250925T113000
DTSTAMP:20260421T120540
CREATED:20250702T105119Z
LAST-MODIFIED:20250831T100126Z
UID:10000166-1758796200-1758799800@kaleidoskop-hessen.de
SUMMARY:elephant walk (Hennermanns Horde)
DESCRIPTION:
URL:https://kaleidoskop-hessen.de/event/elephant-walk-2/2025-09-25/4/
LOCATION:Klosterberghalle Langenselbold\, Schloßstraße\, Langenselbold\, Hessen\, 63505\, Deutschland
END:VEVENT
BEGIN:VEVENT
DTSTART;TZID=Europe/Berlin:20250925T090000
DTEND;TZID=Europe/Berlin:20250925T100000
DTSTAMP:20260421T120540
CREATED:20250702T105119Z
LAST-MODIFIED:20250831T100126Z
UID:10000165-1758790800-1758794400@kaleidoskop-hessen.de
SUMMARY:elephant walk (Hennermanns Horde)
DESCRIPTION:
URL:https://kaleidoskop-hessen.de/event/elephant-walk-2/2025-09-25/3/
LOCATION:Klosterberghalle Langenselbold\, Schloßstraße\, Langenselbold\, Hessen\, 63505\, Deutschland
END:VEVENT
BEGIN:VEVENT
DTSTART;TZID=Europe/Berlin:20250924T103000
DTEND;TZID=Europe/Berlin:20250924T113000
DTSTAMP:20260421T120540
CREATED:20250702T105119Z
LAST-MODIFIED:20250831T100126Z
UID:10000164-1758709800-1758713400@kaleidoskop-hessen.de
SUMMARY:elephant walk (Hennermanns Horde)
DESCRIPTION:
URL:https://kaleidoskop-hessen.de/event/elephant-walk-2/2025-09-24/4/
LOCATION:Klosterberghalle Langenselbold\, Schloßstraße\, Langenselbold\, Hessen\, 63505\, Deutschland
END:VEVENT
BEGIN:VEVENT
DTSTART;TZID=Europe/Berlin:20250924T100000
DTEND;TZID=Europe/Berlin:20250924T110000
DTSTAMP:20260421T120540
CREATED:20250711T090939Z
LAST-MODIFIED:20250831T094741Z
UID:10000160-1758708000-1758711600@kaleidoskop-hessen.de
SUMMARY:Rote Zora (flunker produktionen)
DESCRIPTION:
URL:https://kaleidoskop-hessen.de/event/rote-zora-figurentheater-lehmann-und-wenzel-flunker-produktionen/
LOCATION:Blumenhof Weilmünster\, Weilstr. 29a\, Weilmünster\, Hessen\, 35789
END:VEVENT
BEGIN:VEVENT
DTSTART;TZID=Europe/Berlin:20250924T090000
DTEND;TZID=Europe/Berlin:20250924T100000
DTSTAMP:20260421T120540
CREATED:20250702T105119Z
LAST-MODIFIED:20250831T100126Z
UID:10000163-1758704400-1758708000@kaleidoskop-hessen.de
SUMMARY:elephant walk (Hennermanns Horde)
DESCRIPTION:
URL:https://kaleidoskop-hessen.de/event/elephant-walk-2/2025-09-24/3/
LOCATION:Klosterberghalle Langenselbold\, Schloßstraße\, Langenselbold\, Hessen\, 63505\, Deutschland
END:VEVENT
BEGIN:VEVENT
DTSTART;TZID=Europe/Berlin:20250921T143000
DTEND;TZID=Europe/Berlin:20250921T153000
DTSTAMP:20260421T120540
CREATED:20250702T104754Z
LAST-MODIFIED:20250711T074410Z
UID:10000139-1758465000-1758468600@kaleidoskop-hessen.de
SUMMARY:elephant walk (Hennermanns Horde)
DESCRIPTION:
URL:https://kaleidoskop-hessen.de/event/elephant-walk/
LOCATION:Kino Traumstern Lich
END:VEVENT
BEGIN:VEVENT
DTSTART;TZID=Europe/Berlin:20250921T143000
DTEND;TZID=Europe/Berlin:20250921T153000
DTSTAMP:20260421T120540
CREATED:20250702T085152Z
LAST-MODIFIED:20250711T074109Z
UID:10000131-1758465000-1758468600@kaleidoskop-hessen.de
SUMMARY:punkt punkt komma strich (Theater Monteure)
DESCRIPTION:
URL:https://kaleidoskop-hessen.de/event/punkt-punkt-komma-strich/
LOCATION:Blumenhof Weilmünster\, Weilstr. 29a\, Weilmünster\, Hessen\, 35789
END:VEVENT
BEGIN:VEVENT
DTSTART;TZID=Europe/Berlin:20250912T150000
DTEND;TZID=Europe/Berlin:20250912T160000
DTSTAMP:20260421T120540
CREATED:20250711T091826Z
LAST-MODIFIED:20250831T093356Z
UID:10000162-1757689200-1757692800@kaleidoskop-hessen.de
SUMMARY:Coucou (Companie M)
DESCRIPTION:
URL:https://kaleidoskop-hessen.de/event/coucou-companie-m/
LOCATION:Zwischen den Hochhäusern Seligenstadt\, Berliner Straße 28 – 32\, Seligenstadt\, Hessen\, 63500\, Deutschland
END:VEVENT
BEGIN:VEVENT
DTSTART;TZID=Europe/Berlin:20241205T110000
DTEND;TZID=Europe/Berlin:20241205T120000
DTSTAMP:20260421T120540
CREATED:20240812T072728Z
LAST-MODIFIED:20240812T072728Z
UID:10000109-1733396400-1733400000@kaleidoskop-hessen.de
SUMMARY:Gehört das so?
DESCRIPTION:
URL:https://kaleidoskop-hessen.de/event/gehoert-das-so-7/
LOCATION:Bürgerhaus\, Brüder-Grimm-Straße 33\, Mainhausen\, Hessen\, 65533\, Deutschland
END:VEVENT
BEGIN:VEVENT
DTSTART;TZID=Europe/Berlin:20241205T090000
DTEND;TZID=Europe/Berlin:20241205T100000
DTSTAMP:20260421T120540
CREATED:20240812T072752Z
LAST-MODIFIED:20240812T072752Z
UID:10000110-1733389200-1733392800@kaleidoskop-hessen.de
SUMMARY:Gehört das so?
DESCRIPTION:
URL:https://kaleidoskop-hessen.de/event/gehoert-das-so-8/
LOCATION:Bürgerhaus\, Brüder-Grimm-Straße 33\, Mainhausen\, Hessen\, 65533\, Deutschland
END:VEVENT
BEGIN:VEVENT
DTSTART;TZID=Europe/Berlin:20241204T110000
DTEND;TZID=Europe/Berlin:20241204T120000
DTSTAMP:20260421T120540
CREATED:20240812T072643Z
LAST-MODIFIED:20240812T072643Z
UID:10000108-1733310000-1733313600@kaleidoskop-hessen.de
SUMMARY:Gehört das so?
DESCRIPTION:
URL:https://kaleidoskop-hessen.de/event/gehoert-das-so-6/
LOCATION:Haus des Gastes Gladenbach\, Karl-Waldschmidt-Str. 5\, Gladenbach\, Hessen\, 35075\, Deutschland
END:VEVENT
BEGIN:VEVENT
DTSTART;TZID=Europe/Berlin:20241204T091000
DTEND;TZID=Europe/Berlin:20241204T101000
DTSTAMP:20260421T120540
CREATED:20240812T072625Z
LAST-MODIFIED:20240812T072625Z
UID:10000107-1733303400-1733307000@kaleidoskop-hessen.de
SUMMARY:Gehört das so?
DESCRIPTION:
URL:https://kaleidoskop-hessen.de/event/gehoert-das-so-5/
LOCATION:Haus des Gastes Gladenbach\, Karl-Waldschmidt-Str. 5\, Gladenbach\, Hessen\, 35075\, Deutschland
END:VEVENT
BEGIN:VEVENT
DTSTART;TZID=Europe/Berlin:20241201T150000
DTEND;TZID=Europe/Berlin:20241201T160000
DTSTAMP:20260421T120540
CREATED:20240812T072107Z
LAST-MODIFIED:20240903T094440Z
UID:10000102-1733065200-1733068800@kaleidoskop-hessen.de
SUMMARY:Unterm Kindergarten
DESCRIPTION:
URL:https://kaleidoskop-hessen.de/event/unterm-kindergarten-5/
LOCATION:KulturSpinnerei Lauterbach\, Lauterstr. 3\, 36341 Lauterbach
END:VEVENT
BEGIN:VEVENT
DTSTART;TZID=Europe/Berlin:20241201T143000
DTEND;TZID=Europe/Berlin:20241201T153000
DTSTAMP:20260421T120540
CREATED:20240812T073659Z
LAST-MODIFIED:20240812T073659Z
UID:10000116-1733063400-1733067000@kaleidoskop-hessen.de
SUMMARY:Geheimlich
DESCRIPTION:
URL:https://kaleidoskop-hessen.de/event/geheimlich-3/
LOCATION:Kino Traumstern Lich
END:VEVENT
BEGIN:VEVENT
DTSTART;TZID=Europe/Berlin:20241127T170000
DTEND;TZID=Europe/Berlin:20241127T180000
DTSTAMP:20260421T120540
CREATED:20240812T073241Z
LAST-MODIFIED:20240812T093948Z
UID:10000113-1732726800-1732730400@kaleidoskop-hessen.de
SUMMARY:being [a]part
DESCRIPTION:
URL:https://kaleidoskop-hessen.de/event/being-apart-4/
LOCATION:Evangel. Gemeindezentrum\, Jahnstraße 24\, Seligenstadt\, Hessen\, 63500\, Deutschland
END:VEVENT
BEGIN:VEVENT
DTSTART;TZID=Europe/Berlin:20241126T110000
DTEND;TZID=Europe/Berlin:20241126T120000
DTSTAMP:20260421T120541
CREATED:20240812T073204Z
LAST-MODIFIED:20240812T094014Z
UID:10000112-1732618800-1732622400@kaleidoskop-hessen.de
SUMMARY:being [a]part
DESCRIPTION:
URL:https://kaleidoskop-hessen.de/event/being-apart-3/
LOCATION:Stadthalle Schotten
END:VEVENT
BEGIN:VEVENT
DTSTART;TZID=Europe/Berlin:20241126T084500
DTEND;TZID=Europe/Berlin:20241126T094500
DTSTAMP:20260421T120541
CREATED:20240812T073137Z
LAST-MODIFIED:20240812T094042Z
UID:10000111-1732610700-1732614300@kaleidoskop-hessen.de
SUMMARY:being [a]part
DESCRIPTION:
URL:https://kaleidoskop-hessen.de/event/being-apart-2/
LOCATION:Stadthalle Schotten
END:VEVENT
BEGIN:VEVENT
DTSTART;TZID=Europe/Berlin:20241123T160000
DTEND;TZID=Europe/Berlin:20241123T170000
DTSTAMP:20260421T120541
CREATED:20240812T073629Z
LAST-MODIFIED:20240812T073629Z
UID:10000115-1732377600-1732381200@kaleidoskop-hessen.de
SUMMARY:Geheimlich
DESCRIPTION:
URL:https://kaleidoskop-hessen.de/event/geheimlich-2/
LOCATION:Jugendkulturtreff e-werk\, Wallstr. 24\, Bad Homburg v. d. Höhe\, Hessen\, 61348\, Deutschland
END:VEVENT
END:VCALENDAR