BEGIN:VCALENDAR
VERSION:2.0
PRODID:-//Kaleidoskop - ECPv6.15.18//NONSGML v1.0//EN
CALSCALE:GREGORIAN
METHOD:PUBLISH
X-WR-CALNAME:Kaleidoskop
X-ORIGINAL-URL:https://kaleidoskop-hessen.de
X-WR-CALDESC:Events for Kaleidoskop
REFRESH-INTERVAL;VALUE=DURATION:PT1H
X-Robots-Tag:noindex
X-PUBLISHED-TTL:PT1H
BEGIN:VTIMEZONE
TZID:Europe/Berlin
BEGIN:DAYLIGHT
TZOFFSETFROM:+0100
TZOFFSETTO:+0200
TZNAME:CEST
DTSTART:20230326T010000
END:DAYLIGHT
BEGIN:STANDARD
TZOFFSETFROM:+0200
TZOFFSETTO:+0100
TZNAME:CET
DTSTART:20231029T010000
END:STANDARD
BEGIN:DAYLIGHT
TZOFFSETFROM:+0100
TZOFFSETTO:+0200
TZNAME:CEST
DTSTART:20240331T010000
END:DAYLIGHT
BEGIN:STANDARD
TZOFFSETFROM:+0200
TZOFFSETTO:+0100
TZNAME:CET
DTSTART:20241027T010000
END:STANDARD
BEGIN:DAYLIGHT
TZOFFSETFROM:+0100
TZOFFSETTO:+0200
TZNAME:CEST
DTSTART:20250330T010000
END:DAYLIGHT
BEGIN:STANDARD
TZOFFSETFROM:+0200
TZOFFSETTO:+0100
TZNAME:CET
DTSTART:20251026T010000
END:STANDARD
END:VTIMEZONE
BEGIN:VEVENT
DTSTART;TZID=Europe/Berlin:20241117T160000
DTEND;TZID=Europe/Berlin:20241117T170000
DTSTAMP:20260421T163401
CREATED:20240812T070141Z
LAST-MODIFIED:20240812T070141Z
UID:10000092-1731859200-1731862800@kaleidoskop-hessen.de
SUMMARY:Das Neinhorn
DESCRIPTION:
URL:https://kaleidoskop-hessen.de/event/das-neinhorn-6/
LOCATION:Klosterberghalle Langenselbold\, Schloßstraße\, Langenselbold\, Hessen\, 63505\, Deutschland
END:VEVENT
BEGIN:VEVENT
DTSTART;TZID=Europe/Berlin:20241106T110000
DTEND;TZID=Europe/Berlin:20241106T120000
DTSTAMP:20260421T163401
CREATED:20240812T074603Z
LAST-MODIFIED:20240812T074603Z
UID:10000128-1730890800-1730894400@kaleidoskop-hessen.de
SUMMARY:Schulhofperformance Demokratie
DESCRIPTION:
URL:https://kaleidoskop-hessen.de/event/schulhofperformance-demokratie-7/
LOCATION:Vogelsbergschule Schotten
END:VEVENT
BEGIN:VEVENT
DTSTART;TZID=Europe/Berlin:20241106T090000
DTEND;TZID=Europe/Berlin:20241106T100000
DTSTAMP:20260421T163401
CREATED:20240812T074514Z
LAST-MODIFIED:20240812T074544Z
UID:10000127-1730883600-1730887200@kaleidoskop-hessen.de
SUMMARY:Schulhofperformance Demokratie
DESCRIPTION:
URL:https://kaleidoskop-hessen.de/event/schulhofperformance-demokratie-6/
LOCATION:Vogelsbergschule Schotten
END:VEVENT
BEGIN:VEVENT
DTSTART;TZID=Europe/Berlin:20241105T093000
DTEND;TZID=Europe/Berlin:20241105T103000
DTSTAMP:20260421T163401
CREATED:20240812T074450Z
LAST-MODIFIED:20240812T074450Z
UID:10000126-1730799000-1730802600@kaleidoskop-hessen.de
SUMMARY:Schulhofperformance Demokratie
DESCRIPTION:
URL:https://kaleidoskop-hessen.de/event/schulhofperformance-demokratie-5/
LOCATION:Vogelsbergschule Schotten
END:VEVENT
BEGIN:VEVENT
DTSTART;TZID=Europe/Berlin:20241013T143000
DTEND;TZID=Europe/Berlin:20241013T153000
DTSTAMP:20260421T163401
CREATED:20240812T065822Z
LAST-MODIFIED:20240812T065822Z
UID:10000091-1728829800-1728833400@kaleidoskop-hessen.de
SUMMARY:Das Neinhorn
DESCRIPTION:
URL:https://kaleidoskop-hessen.de/event/das-neinhorn-5/
LOCATION:Kino Traumstern Lich
END:VEVENT
BEGIN:VEVENT
DTSTART;TZID=Europe/Berlin:20241012T160000
DTEND;TZID=Europe/Berlin:20241012T170000
DTSTAMP:20260421T163402
CREATED:20240812T065721Z
LAST-MODIFIED:20240812T065721Z
UID:10000090-1728748800-1728752400@kaleidoskop-hessen.de
SUMMARY:Das Neinhorn
DESCRIPTION:
URL:https://kaleidoskop-hessen.de/event/das-neinhorn-4/
LOCATION:Jugendkulturtreff e-werk\, Wallstr. 24\, Bad Homburg v. d. Höhe\, Hessen\, 61348\, Deutschland
END:VEVENT
BEGIN:VEVENT
DTSTART;TZID=Europe/Berlin:20241011T110000
DTEND;TZID=Europe/Berlin:20241011T120000
DTSTAMP:20260421T163402
CREATED:20240812T074354Z
LAST-MODIFIED:20240812T074354Z
UID:10000125-1728644400-1728648000@kaleidoskop-hessen.de
SUMMARY:Schulhofperformance Demokratie
DESCRIPTION:
URL:https://kaleidoskop-hessen.de/event/schulhofperformance-demokratie-4/
LOCATION:Richtsbergschule Marburg
END:VEVENT
BEGIN:VEVENT
DTSTART;TZID=Europe/Berlin:20241011T090000
DTEND;TZID=Europe/Berlin:20241011T100000
DTSTAMP:20260421T163402
CREATED:20240812T074335Z
LAST-MODIFIED:20240812T074335Z
UID:10000124-1728637200-1728640800@kaleidoskop-hessen.de
SUMMARY:Schulhofperformance Demokratie
DESCRIPTION:
URL:https://kaleidoskop-hessen.de/event/schulhofperformance-demokratie-3/
LOCATION:Richtsbergschule Marburg
END:VEVENT
BEGIN:VEVENT
DTSTART;TZID=Europe/Berlin:20241010T120000
DTEND;TZID=Europe/Berlin:20241010T130000
DTSTAMP:20260421T163402
CREATED:20240812T074305Z
LAST-MODIFIED:20240812T074305Z
UID:10000123-1728561600-1728565200@kaleidoskop-hessen.de
SUMMARY:Schulhofperformance Demokratie
DESCRIPTION:
URL:https://kaleidoskop-hessen.de/event/schulhofperformance-demokratie-2/
LOCATION:Richtsbergschule Marburg
END:VEVENT
BEGIN:VEVENT
DTSTART;TZID=Europe/Berlin:20241010T100000
DTEND;TZID=Europe/Berlin:20241010T110000
DTSTAMP:20260421T163402
CREATED:20240812T074244Z
LAST-MODIFIED:20240812T074244Z
UID:10000122-1728554400-1728558000@kaleidoskop-hessen.de
SUMMARY:Schulhofperformance Demokratie
DESCRIPTION:
URL:https://kaleidoskop-hessen.de/event/schulhofperformance-demokratie/
LOCATION:Richtsbergschule Marburg
END:VEVENT
BEGIN:VEVENT
DTSTART;TZID=Europe/Berlin:20241002T160000
DTEND;TZID=Europe/Berlin:20241002T170000
DTSTAMP:20260421T163402
CREATED:20240812T074049Z
LAST-MODIFIED:20240812T074049Z
UID:10000121-1727884800-1727888400@kaleidoskop-hessen.de
SUMMARY:Die Klanguste
DESCRIPTION:
URL:https://kaleidoskop-hessen.de/event/die-klanguste-5/
LOCATION:Klosterberghalle Langenselbold\, Schloßstraße\, Langenselbold\, Hessen\, 63505\, Deutschland
END:VEVENT
BEGIN:VEVENT
DTSTART;TZID=Europe/Berlin:20241002T110000
DTEND;TZID=Europe/Berlin:20241002T120000
DTSTAMP:20260421T163402
CREATED:20240812T074026Z
LAST-MODIFIED:20240812T074026Z
UID:10000120-1727866800-1727870400@kaleidoskop-hessen.de
SUMMARY:Die Klanguste
DESCRIPTION:
URL:https://kaleidoskop-hessen.de/event/die-klanguste-4/
LOCATION:Klosterberghalle Langenselbold\, Schloßstraße\, Langenselbold\, Hessen\, 63505\, Deutschland
END:VEVENT
BEGIN:VEVENT
DTSTART;TZID=Europe/Berlin:20241001T112500
DTEND;TZID=Europe/Berlin:20241001T122500
DTSTAMP:20260421T163402
CREATED:20240812T073954Z
LAST-MODIFIED:20240812T073954Z
UID:10000119-1727781900-1727785500@kaleidoskop-hessen.de
SUMMARY:Die Klanguste
DESCRIPTION:
URL:https://kaleidoskop-hessen.de/event/die-klanguste-3/
LOCATION:Haus des Gastes Gladenbach\, Karl-Waldschmidt-Str. 5\, Gladenbach\, Hessen\, 35075\, Deutschland
END:VEVENT
BEGIN:VEVENT
DTSTART;TZID=Europe/Berlin:20241001T092500
DTEND;TZID=Europe/Berlin:20241001T102500
DTSTAMP:20260421T163402
CREATED:20240812T073935Z
LAST-MODIFIED:20240812T073935Z
UID:10000118-1727774700-1727778300@kaleidoskop-hessen.de
SUMMARY:Die Klanguste
DESCRIPTION:
URL:https://kaleidoskop-hessen.de/event/die-klanguste-2/
LOCATION:Haus des Gastes Gladenbach\, Karl-Waldschmidt-Str. 5\, Gladenbach\, Hessen\, 35075\, Deutschland
END:VEVENT
BEGIN:VEVENT
DTSTART;TZID=Europe/Berlin:20240930T110000
DTEND;TZID=Europe/Berlin:20240930T120000
DTSTAMP:20260421T163402
CREATED:20240812T073845Z
LAST-MODIFIED:20240812T073845Z
UID:10000117-1727694000-1727697600@kaleidoskop-hessen.de
SUMMARY:Die Klanguste
DESCRIPTION:
URL:https://kaleidoskop-hessen.de/event/die-klanguste/
LOCATION:Haus des Gastes Gladenbach\, Karl-Waldschmidt-Str. 5\, Gladenbach\, Hessen\, 35075\, Deutschland
END:VEVENT
BEGIN:VEVENT
DTSTART;TZID=Europe/Berlin:20240927T160000
DTEND;TZID=Europe/Berlin:20240927T170000
DTSTAMP:20260421T163402
CREATED:20240812T072508Z
LAST-MODIFIED:20240812T072508Z
UID:10000106-1727452800-1727456400@kaleidoskop-hessen.de
SUMMARY:Gehört das so?
DESCRIPTION:
URL:https://kaleidoskop-hessen.de/event/gehoert-das-so-4/
LOCATION:Jugendkulturtreff e-werk\, Wallstr. 24\, Bad Homburg v. d. Höhe\, Hessen\, 61348\, Deutschland
END:VEVENT
BEGIN:VEVENT
DTSTART;TZID=Europe/Berlin:20240927T100000
DTEND;TZID=Europe/Berlin:20240927T110000
DTSTAMP:20260421T163402
CREATED:20240812T072446Z
LAST-MODIFIED:20240812T072446Z
UID:10000105-1727431200-1727434800@kaleidoskop-hessen.de
SUMMARY:Gehört das so?
DESCRIPTION:
URL:https://kaleidoskop-hessen.de/event/gehoert-das-so-3/
LOCATION:Jugendkulturtreff e-werk\, Wallstr. 24\, Bad Homburg v. d. Höhe\, Hessen\, 61348\, Deutschland
END:VEVENT
BEGIN:VEVENT
DTSTART;TZID=Europe/Berlin:20240925T110000
DTEND;TZID=Europe/Berlin:20240925T120000
DTSTAMP:20260421T163402
CREATED:20240812T071911Z
LAST-MODIFIED:20240812T071911Z
UID:10000100-1727262000-1727265600@kaleidoskop-hessen.de
SUMMARY:Unterm Kindergarten
DESCRIPTION:
URL:https://kaleidoskop-hessen.de/event/unterm-kindergarten-3/
LOCATION:Evangel. Gemeindezentrum\, Jahnstraße 24\, Seligenstadt\, Hessen\, 63500\, Deutschland
END:VEVENT
BEGIN:VEVENT
DTSTART;TZID=Europe/Berlin:20240925T090000
DTEND;TZID=Europe/Berlin:20240925T100000
DTSTAMP:20260421T163402
CREATED:20240812T071955Z
LAST-MODIFIED:20240812T071955Z
UID:10000101-1727254800-1727258400@kaleidoskop-hessen.de
SUMMARY:Unterm Kindergarten
DESCRIPTION:
URL:https://kaleidoskop-hessen.de/event/unterm-kindergarten-4/
LOCATION:Evangel. Gemeindezentrum\, Jahnstraße 24\, Seligenstadt\, Hessen\, 63500\, Deutschland
END:VEVENT
BEGIN:VEVENT
DTSTART;TZID=Europe/Berlin:20240922T143000
DTEND;TZID=Europe/Berlin:20240922T153000
DTSTAMP:20260421T163402
CREATED:20240812T073533Z
LAST-MODIFIED:20240812T073533Z
UID:10000114-1727015400-1727019000@kaleidoskop-hessen.de
SUMMARY:Geheimlich
DESCRIPTION:
URL:https://kaleidoskop-hessen.de/event/geheimlich/
LOCATION:Waggonhalle\, Rudolf-Bultmann-Str. 2a\, Marburg\, Hessen\, 35039\, Deutschland
END:VEVENT
BEGIN:VEVENT
DTSTART;TZID=Europe/Berlin:20240918T103000
DTEND;TZID=Europe/Berlin:20240918T113000
DTSTAMP:20260421T163402
CREATED:20240812T072338Z
LAST-MODIFIED:20240812T072338Z
UID:10000104-1726655400-1726659000@kaleidoskop-hessen.de
SUMMARY:Gehört das so?
DESCRIPTION:
URL:https://kaleidoskop-hessen.de/event/gehoert-das-so-2/
LOCATION:Blumenhof Weilmünster\, Weilstr. 29a\, Weilmünster\, Hessen\, 35789
END:VEVENT
BEGIN:VEVENT
DTSTART;TZID=Europe/Berlin:20240918T084500
DTEND;TZID=Europe/Berlin:20240918T094500
DTSTAMP:20260421T163402
CREATED:20240812T072314Z
LAST-MODIFIED:20240812T072314Z
UID:10000103-1726649100-1726652700@kaleidoskop-hessen.de
SUMMARY:Gehört das so?
DESCRIPTION:
URL:https://kaleidoskop-hessen.de/event/gehoert-das-so/
LOCATION:Blumenhof Weilmünster\, Weilstr. 29a\, Weilmünster\, Hessen\, 35789
END:VEVENT
BEGIN:VEVENT
DTSTART;TZID=Europe/Berlin:20240917T110000
DTEND;TZID=Europe/Berlin:20240917T120000
DTSTAMP:20260421T163402
CREATED:20240812T071829Z
LAST-MODIFIED:20240812T071829Z
UID:10000099-1726570800-1726574400@kaleidoskop-hessen.de
SUMMARY:Unterm Kindergarten
DESCRIPTION:
URL:https://kaleidoskop-hessen.de/event/unterm-kindergarten-2/
LOCATION:Blumenhof Weilmünster\, Weilstr. 29a\, Weilmünster\, Hessen\, 35789
END:VEVENT
BEGIN:VEVENT
DTSTART;TZID=Europe/Berlin:20240917T090000
DTEND;TZID=Europe/Berlin:20240917T100000
DTSTAMP:20260421T163402
CREATED:20240812T071758Z
LAST-MODIFIED:20240812T071758Z
UID:10000098-1726563600-1726567200@kaleidoskop-hessen.de
SUMMARY:Unterm Kindergarten
DESCRIPTION:
URL:https://kaleidoskop-hessen.de/event/unterm-kindergarten/
LOCATION:Blumenhof Weilmünster\, Weilstr. 29a\, Weilmünster\, Hessen\, 35789
END:VEVENT
BEGIN:VEVENT
DTSTART;TZID=Europe/Berlin:20240916T103000
DTEND;TZID=Europe/Berlin:20240916T113000
DTSTAMP:20260421T163402
CREATED:20240812T065534Z
LAST-MODIFIED:20240812T065534Z
UID:10000088-1726482600-1726486200@kaleidoskop-hessen.de
SUMMARY:Das Neinhorn
DESCRIPTION:
URL:https://kaleidoskop-hessen.de/event/das-neinhorn-2/
LOCATION:Blumenhof Weilmünster\, Weilstr. 29a\, Weilmünster\, Hessen\, 35789
END:VEVENT
BEGIN:VEVENT
DTSTART;TZID=Europe/Berlin:20240916T084500
DTEND;TZID=Europe/Berlin:20240916T094500
DTSTAMP:20260421T163402
CREATED:20240812T065311Z
LAST-MODIFIED:20240812T065404Z
UID:10000087-1726476300-1726479900@kaleidoskop-hessen.de
SUMMARY:Das Neinhorn
DESCRIPTION:
URL:https://kaleidoskop-hessen.de/event/das-neinhorn/
LOCATION:Blumenhof Weilmünster\, Weilstr. 29a\, Weilmünster\, Hessen\, 35789
END:VEVENT
BEGIN:VEVENT
DTSTART;TZID=Europe/Berlin:20240915T153000
DTEND;TZID=Europe/Berlin:20240915T163000
DTSTAMP:20260421T163402
CREATED:20240812T065605Z
LAST-MODIFIED:20240812T065605Z
UID:10000089-1726414200-1726417800@kaleidoskop-hessen.de
SUMMARY:Das Neinhorn
DESCRIPTION:
URL:https://kaleidoskop-hessen.de/event/das-neinhorn-3/
LOCATION:Blumenhof Weilmünster\, Weilstr. 29a\, Weilmünster\, Hessen\, 35789
END:VEVENT
BEGIN:VEVENT
DTSTART;TZID=Europe/Berlin:20240913T193000
DTEND;TZID=Europe/Berlin:20240913T203000
DTSTAMP:20260421T163402
CREATED:20240812T064619Z
LAST-MODIFIED:20240903T102259Z
UID:10000086-1726255800-1726259400@kaleidoskop-hessen.de
SUMMARY:being [a]part
DESCRIPTION:
URL:https://kaleidoskop-hessen.de/event/being-apart/
LOCATION:Blumenhof Weilmünster\, Weilstr. 29a\, Weilmünster\, Hessen\, 35789
END:VEVENT
BEGIN:VEVENT
DTSTART;TZID=Europe/Berlin:20240913T183000
DTEND;TZID=Europe/Berlin:20240913T210000
DTSTAMP:20260421T163402
CREATED:20240819T084615Z
LAST-MODIFIED:20240819T084615Z
UID:10000129-1726252200-1726261200@kaleidoskop-hessen.de
SUMMARY:Offizielle Eröffnung kaleidoskop 2024
DESCRIPTION:
URL:https://kaleidoskop-hessen.de/event/offizielle-eroeffnung-kaleidoskop-2024/
LOCATION:Blumenhof Weilmünster\, Weilstr. 29a\, Weilmünster\, Hessen\, 35789
END:VEVENT
BEGIN:VEVENT
DTSTART;TZID=Europe/Berlin:20240906T160000
DTEND;TZID=Europe/Berlin:20240906T170000
DTSTAMP:20260421T163402
CREATED:20240812T064315Z
LAST-MODIFIED:20240812T064315Z
UID:10000085-1725638400-1725642000@kaleidoskop-hessen.de
SUMMARY:Die Regentrude
DESCRIPTION:
URL:https://kaleidoskop-hessen.de/event/die-regentrude/
LOCATION:Zwischen den Hochhäusern Seligenstadt\, Berliner Straße 28 – 32\, Seligenstadt\, Hessen\, 63500\, Deutschland
END:VEVENT
END:VCALENDAR