BEGIN:VCALENDAR
VERSION:2.0
PRODID:-//Kaleidoskop - ECPv6.15.18//NONSGML v1.0//EN
CALSCALE:GREGORIAN
METHOD:PUBLISH
X-WR-CALNAME:Kaleidoskop
X-ORIGINAL-URL:https://kaleidoskop-hessen.de
X-WR-CALDESC:Events for Kaleidoskop
REFRESH-INTERVAL;VALUE=DURATION:PT1H
X-Robots-Tag:noindex
X-PUBLISHED-TTL:PT1H
BEGIN:VTIMEZONE
TZID:Europe/Berlin
BEGIN:DAYLIGHT
TZOFFSETFROM:+0100
TZOFFSETTO:+0200
TZNAME:CEST
DTSTART:20220327T010000
END:DAYLIGHT
BEGIN:STANDARD
TZOFFSETFROM:+0200
TZOFFSETTO:+0100
TZNAME:CET
DTSTART:20221030T010000
END:STANDARD
BEGIN:DAYLIGHT
TZOFFSETFROM:+0100
TZOFFSETTO:+0200
TZNAME:CEST
DTSTART:20230326T010000
END:DAYLIGHT
BEGIN:STANDARD
TZOFFSETFROM:+0200
TZOFFSETTO:+0100
TZNAME:CET
DTSTART:20231029T010000
END:STANDARD
BEGIN:DAYLIGHT
TZOFFSETFROM:+0100
TZOFFSETTO:+0200
TZNAME:CEST
DTSTART:20240331T010000
END:DAYLIGHT
BEGIN:STANDARD
TZOFFSETFROM:+0200
TZOFFSETTO:+0100
TZNAME:CET
DTSTART:20241027T010000
END:STANDARD
END:VTIMEZONE
BEGIN:VEVENT
DTSTART;TZID=Europe/Berlin:20231123T140000
DTEND;TZID=Europe/Berlin:20231123T150000
DTSTAMP:20260421T194029
CREATED:20230710T164351Z
LAST-MODIFIED:20230719T063542Z
UID:10000073-1700748000-1700751600@kaleidoskop-hessen.de
SUMMARY:Trippel Trappel Schuhgebabbel
DESCRIPTION:
URL:https://kaleidoskop-hessen.de/event/trippel-trappel-schuhgebrabbel-3/
LOCATION:Theateratelier Bleichstr Offenbach\, Hessen\, Deutschland
END:VEVENT
BEGIN:VEVENT
DTSTART;TZID=Europe/Berlin:20231123T110000
DTEND;TZID=Europe/Berlin:20231123T120000
DTSTAMP:20260421T194029
CREATED:20230710T164151Z
LAST-MODIFIED:20230719T063612Z
UID:10000072-1700737200-1700740800@kaleidoskop-hessen.de
SUMMARY:Trippel Trappel Schuhgebabbel
DESCRIPTION:
URL:https://kaleidoskop-hessen.de/event/trippel-trappel-schuhgebrabbel-2/
LOCATION:Theateratelier Bleichstr Offenbach\, Hessen\, Deutschland
END:VEVENT
BEGIN:VEVENT
DTSTART;TZID=Europe/Berlin:20231123T100000
DTEND;TZID=Europe/Berlin:20231123T110000
DTSTAMP:20260421T194029
CREATED:20230710T164109Z
LAST-MODIFIED:20230719T063637Z
UID:10000071-1700733600-1700737200@kaleidoskop-hessen.de
SUMMARY:Trippel Trappel Schuhgebabbel
DESCRIPTION:
URL:https://kaleidoskop-hessen.de/event/trippel-trappel-schuhgebrabbel/
LOCATION:Theateratelier Bleichstr Offenbach\, Hessen\, Deutschland
END:VEVENT
END:VCALENDAR