BEGIN:VCALENDAR
VERSION:2.0
PRODID:-//Kaleidoskop - ECPv6.15.18//NONSGML v1.0//EN
CALSCALE:GREGORIAN
METHOD:PUBLISH
X-WR-CALNAME:Kaleidoskop
X-ORIGINAL-URL:https://kaleidoskop-hessen.de
X-WR-CALDESC:Events for Kaleidoskop
REFRESH-INTERVAL;VALUE=DURATION:PT1H
X-Robots-Tag:noindex
X-PUBLISHED-TTL:PT1H
BEGIN:VTIMEZONE
TZID:Europe/Berlin
BEGIN:DAYLIGHT
TZOFFSETFROM:+0100
TZOFFSETTO:+0200
TZNAME:CEST
DTSTART:20240331T010000
END:DAYLIGHT
BEGIN:STANDARD
TZOFFSETFROM:+0200
TZOFFSETTO:+0100
TZNAME:CET
DTSTART:20241027T010000
END:STANDARD
BEGIN:DAYLIGHT
TZOFFSETFROM:+0100
TZOFFSETTO:+0200
TZNAME:CEST
DTSTART:20250330T010000
END:DAYLIGHT
BEGIN:STANDARD
TZOFFSETFROM:+0200
TZOFFSETTO:+0100
TZNAME:CET
DTSTART:20251026T010000
END:STANDARD
BEGIN:DAYLIGHT
TZOFFSETFROM:+0100
TZOFFSETTO:+0200
TZNAME:CEST
DTSTART:20260329T010000
END:DAYLIGHT
BEGIN:STANDARD
TZOFFSETFROM:+0200
TZOFFSETTO:+0100
TZNAME:CET
DTSTART:20261025T010000
END:STANDARD
END:VTIMEZONE
BEGIN:VEVENT
DTSTART;TZID=Europe/Berlin:20251120T140000
DTEND;TZID=Europe/Berlin:20251120T150000
DTSTAMP:20260421T144253
CREATED:20250702T085926Z
LAST-MODIFIED:20250711T074014Z
UID:10000136-1763647200-1763650800@kaleidoskop-hessen.de
SUMMARY:punkt punkt komma strich (Theater Monteure)
DESCRIPTION:
URL:https://kaleidoskop-hessen.de/event/punkt-punkt-komma-strich-4/2025-11-20/2/
LOCATION:Theateratelier Bleichstr Offenbach\, Hessen\, Deutschland
END:VEVENT
BEGIN:VEVENT
DTSTART;TZID=Europe/Berlin:20251120T110000
DTEND;TZID=Europe/Berlin:20251120T120000
DTSTAMP:20260421T144253
CREATED:20250702T085926Z
LAST-MODIFIED:20250711T074014Z
UID:10000135-1763636400-1763640000@kaleidoskop-hessen.de
SUMMARY:punkt punkt komma strich (Theater Monteure)
DESCRIPTION:
URL:https://kaleidoskop-hessen.de/event/punkt-punkt-komma-strich-4/2025-11-20/1/
LOCATION:Theateratelier Bleichstr Offenbach\, Hessen\, Deutschland
END:VEVENT
BEGIN:VEVENT
DTSTART;TZID=Europe/Berlin:20251028T090000
DTEND;TZID=Europe/Berlin:20251028T100000
DTSTAMP:20260421T144253
CREATED:20250702T085746Z
LAST-MODIFIED:20250831T095348Z
UID:10000134-1761642000-1761645600@kaleidoskop-hessen.de
SUMMARY:punkt punkt komma strich (Theater Monteure)
DESCRIPTION:
URL:https://kaleidoskop-hessen.de/event/punkt-punkt-komma-strich-3/2025-10-28/2/
LOCATION:Evangelisches Gemeindezentrum Seligenstadt\, Aschaffenburger Straße 105\, Seligenstadt\, Hessen\, 63500\, Deutschland
END:VEVENT
BEGIN:VEVENT
DTSTART;TZID=Europe/Berlin:20251028T010000
DTEND;TZID=Europe/Berlin:20251028T120000
DTSTAMP:20260421T144253
CREATED:20250702T085746Z
LAST-MODIFIED:20250831T095348Z
UID:10000133-1761613200-1761652800@kaleidoskop-hessen.de
SUMMARY:punkt punkt komma strich (Theater Monteure)
DESCRIPTION:
URL:https://kaleidoskop-hessen.de/event/punkt-punkt-komma-strich-3/2025-10-28/1/
LOCATION:Evangelisches Gemeindezentrum Seligenstadt\, Aschaffenburger Straße 105\, Seligenstadt\, Hessen\, 63500\, Deutschland
END:VEVENT
BEGIN:VEVENT
DTSTART;TZID=Europe/Berlin:20251021T103000
DTEND;TZID=Europe/Berlin:20251021T113000
DTSTAMP:20260421T144253
CREATED:20250702T085537Z
LAST-MODIFIED:20250711T075239Z
UID:10000132-1761042600-1761046200@kaleidoskop-hessen.de
SUMMARY:punkt punkt komma strich (Theater Monteure)
DESCRIPTION:
URL:https://kaleidoskop-hessen.de/event/punkt-punkt-komma-strich-2/
LOCATION:Adolf-Spieß-Halle\, Vogelsbergstraße 56\, Lauterbach\, Hessen\, 36341\, Deutschland
END:VEVENT
BEGIN:VEVENT
DTSTART;TZID=Europe/Berlin:20250921T143000
DTEND;TZID=Europe/Berlin:20250921T153000
DTSTAMP:20260421T144253
CREATED:20250702T085152Z
LAST-MODIFIED:20250711T074109Z
UID:10000131-1758465000-1758468600@kaleidoskop-hessen.de
SUMMARY:punkt punkt komma strich (Theater Monteure)
DESCRIPTION:
URL:https://kaleidoskop-hessen.de/event/punkt-punkt-komma-strich/
LOCATION:Blumenhof Weilmünster\, Weilstr. 29a\, Weilmünster\, Hessen\, 35789
END:VEVENT
END:VCALENDAR