BEGIN:VCALENDAR
VERSION:2.0
PRODID:-//Kaleidoskop - ECPv6.15.18//NONSGML v1.0//EN
CALSCALE:GREGORIAN
METHOD:PUBLISH
X-WR-CALNAME:Kaleidoskop
X-ORIGINAL-URL:https://kaleidoskop-hessen.de
X-WR-CALDESC:Events for Kaleidoskop
REFRESH-INTERVAL;VALUE=DURATION:PT1H
X-Robots-Tag:noindex
X-PUBLISHED-TTL:PT1H
BEGIN:VTIMEZONE
TZID:Europe/Berlin
BEGIN:DAYLIGHT
TZOFFSETFROM:+0100
TZOFFSETTO:+0200
TZNAME:CEST
DTSTART:20220327T010000
END:DAYLIGHT
BEGIN:STANDARD
TZOFFSETFROM:+0200
TZOFFSETTO:+0100
TZNAME:CET
DTSTART:20221030T010000
END:STANDARD
BEGIN:DAYLIGHT
TZOFFSETFROM:+0100
TZOFFSETTO:+0200
TZNAME:CEST
DTSTART:20230326T010000
END:DAYLIGHT
BEGIN:STANDARD
TZOFFSETFROM:+0200
TZOFFSETTO:+0100
TZNAME:CET
DTSTART:20231029T010000
END:STANDARD
BEGIN:DAYLIGHT
TZOFFSETFROM:+0100
TZOFFSETTO:+0200
TZNAME:CEST
DTSTART:20240331T010000
END:DAYLIGHT
BEGIN:STANDARD
TZOFFSETFROM:+0200
TZOFFSETTO:+0100
TZNAME:CET
DTSTART:20241027T010000
END:STANDARD
END:VTIMEZONE
BEGIN:VEVENT
DTSTART;TZID=Europe/Berlin:20231121T110000
DTEND;TZID=Europe/Berlin:20231121T120000
DTSTAMP:20260421T225454
CREATED:20230710T163802Z
LAST-MODIFIED:20230710T163802Z
UID:10000069-1700564400-1700568000@kaleidoskop-hessen.de
SUMMARY:Platsch!
DESCRIPTION:
URL:https://kaleidoskop-hessen.de/event/platsch-2/
LOCATION:Evangel. Gemeindezentrum\, Jahnstraße 24\, Seligenstadt\, Hessen\, 63500\, Deutschland
END:VEVENT
BEGIN:VEVENT
DTSTART;TZID=Europe/Berlin:20231121T090000
DTEND;TZID=Europe/Berlin:20231121T100000
DTSTAMP:20260421T225454
CREATED:20230710T163705Z
LAST-MODIFIED:20230710T163705Z
UID:10000068-1700557200-1700560800@kaleidoskop-hessen.de
SUMMARY:Platsch!
DESCRIPTION:
URL:https://kaleidoskop-hessen.de/event/platsch/
LOCATION:Evangel. Gemeindezentrum\, Jahnstraße 24\, Seligenstadt\, Hessen\, 63500\, Deutschland
END:VEVENT
END:VCALENDAR