BEGIN:VCALENDAR
VERSION:2.0
PRODID:-//Kaleidoskop - ECPv6.15.18//NONSGML v1.0//EN
CALSCALE:GREGORIAN
METHOD:PUBLISH
X-WR-CALNAME:Kaleidoskop
X-ORIGINAL-URL:https://kaleidoskop-hessen.de
X-WR-CALDESC:Events for Kaleidoskop
REFRESH-INTERVAL;VALUE=DURATION:PT1H
X-Robots-Tag:noindex
X-PUBLISHED-TTL:PT1H
BEGIN:VTIMEZONE
TZID:Europe/Berlin
BEGIN:DAYLIGHT
TZOFFSETFROM:+0100
TZOFFSETTO:+0200
TZNAME:CEST
DTSTART:20220327T010000
END:DAYLIGHT
BEGIN:STANDARD
TZOFFSETFROM:+0200
TZOFFSETTO:+0100
TZNAME:CET
DTSTART:20221030T010000
END:STANDARD
BEGIN:DAYLIGHT
TZOFFSETFROM:+0100
TZOFFSETTO:+0200
TZNAME:CEST
DTSTART:20230326T010000
END:DAYLIGHT
BEGIN:STANDARD
TZOFFSETFROM:+0200
TZOFFSETTO:+0100
TZNAME:CET
DTSTART:20231029T010000
END:STANDARD
BEGIN:DAYLIGHT
TZOFFSETFROM:+0100
TZOFFSETTO:+0200
TZNAME:CEST
DTSTART:20240331T010000
END:DAYLIGHT
BEGIN:STANDARD
TZOFFSETFROM:+0200
TZOFFSETTO:+0100
TZNAME:CET
DTSTART:20241027T010000
END:STANDARD
END:VTIMEZONE
BEGIN:VEVENT
DTSTART;TZID=Europe/Berlin:20231013T153000
DTEND;TZID=Europe/Berlin:20231013T163000
DTSTAMP:20260421T222648
CREATED:20230706T111231Z
LAST-MODIFIED:20230706T111231Z
UID:10000061-1697211000-1697214600@kaleidoskop-hessen.de
SUMMARY:Tülva – Liebe und Sex in queeren Zeiten
DESCRIPTION:
URL:https://kaleidoskop-hessen.de/event/tuelva-liebe-und-sex-in-queeren-zeiten-4/
LOCATION:Jugendkulturtreff e-werk\, Wallstr. 24\, Bad Homburg v. d. Höhe\, Hessen\, 61348\, Deutschland
END:VEVENT
BEGIN:VEVENT
DTSTART;TZID=Europe/Berlin:20231013T100000
DTEND;TZID=Europe/Berlin:20231013T110000
DTSTAMP:20260421T222648
CREATED:20230706T111135Z
LAST-MODIFIED:20230706T111135Z
UID:10000060-1697191200-1697194800@kaleidoskop-hessen.de
SUMMARY:Tülva – Liebe und Sex in queeren Zeiten
DESCRIPTION:
URL:https://kaleidoskop-hessen.de/event/tuelva-liebe-und-sex-in-queeren-zeiten-3/
LOCATION:Jugendkulturtreff e-werk\, Wallstr. 24\, Bad Homburg v. d. Höhe\, Hessen\, 61348\, Deutschland
END:VEVENT
BEGIN:VEVENT
DTSTART;TZID=Europe/Berlin:20231012T113000
DTEND;TZID=Europe/Berlin:20231012T123000
DTSTAMP:20260421T222648
CREATED:20230705T204619Z
LAST-MODIFIED:20230705T204619Z
UID:10000059-1697110200-1697113800@kaleidoskop-hessen.de
SUMMARY:Tülva – Liebe und Sex in queeren Zeiten
DESCRIPTION:
URL:https://kaleidoskop-hessen.de/event/tuelva-liebe-und-sex-in-queeren-zeiten-2/
LOCATION:Stadtbibliothek\, Schotten\, Vogelsbergstraße 137 A\, Schotten\, Hessen\, 63679\, Deutschland
END:VEVENT
BEGIN:VEVENT
DTSTART;TZID=Europe/Berlin:20231012T093000
DTEND;TZID=Europe/Berlin:20231012T103000
DTSTAMP:20260421T222648
CREATED:20230705T204459Z
LAST-MODIFIED:20230705T204459Z
UID:10000058-1697103000-1697106600@kaleidoskop-hessen.de
SUMMARY:Tülva – Liebe und Sex in queeren Zeiten
DESCRIPTION:
URL:https://kaleidoskop-hessen.de/event/tuelva-liebe-und-sex-in-queeren-zeiten/
LOCATION:Stadtbibliothek\, Schotten\, Vogelsbergstraße 137 A\, Schotten\, Hessen\, 63679\, Deutschland
END:VEVENT
END:VCALENDAR