BEGIN:VCALENDAR
VERSION:2.0
PRODID:-//Kaleidoskop - ECPv6.15.18//NONSGML v1.0//EN
CALSCALE:GREGORIAN
METHOD:PUBLISH
X-WR-CALNAME:Kaleidoskop
X-ORIGINAL-URL:https://kaleidoskop-hessen.de
X-WR-CALDESC:Events for Kaleidoskop
REFRESH-INTERVAL;VALUE=DURATION:PT1H
X-Robots-Tag:noindex
X-PUBLISHED-TTL:PT1H
BEGIN:VTIMEZONE
TZID:Europe/Berlin
BEGIN:DAYLIGHT
TZOFFSETFROM:+0100
TZOFFSETTO:+0200
TZNAME:CEST
DTSTART:20240331T010000
END:DAYLIGHT
BEGIN:STANDARD
TZOFFSETFROM:+0200
TZOFFSETTO:+0100
TZNAME:CET
DTSTART:20241027T010000
END:STANDARD
BEGIN:DAYLIGHT
TZOFFSETFROM:+0100
TZOFFSETTO:+0200
TZNAME:CEST
DTSTART:20250330T010000
END:DAYLIGHT
BEGIN:STANDARD
TZOFFSETFROM:+0200
TZOFFSETTO:+0100
TZNAME:CET
DTSTART:20251026T010000
END:STANDARD
BEGIN:DAYLIGHT
TZOFFSETFROM:+0100
TZOFFSETTO:+0200
TZNAME:CEST
DTSTART:20260329T010000
END:DAYLIGHT
BEGIN:STANDARD
TZOFFSETFROM:+0200
TZOFFSETTO:+0100
TZNAME:CET
DTSTART:20261025T010000
END:STANDARD
END:VTIMEZONE
BEGIN:VEVENT
DTSTART;TZID=Europe/Berlin:20251202T110000
DTEND;TZID=Europe/Berlin:20251202T120000
DTSTAMP:20260421T131911
CREATED:20250711T083000Z
LAST-MODIFIED:20250711T083000Z
UID:10000152-1764673200-1764676800@kaleidoskop-hessen.de
SUMMARY:Rückwärts. (Hirsch&Co & Hannah Schassner)
DESCRIPTION:
URL:https://kaleidoskop-hessen.de/event/ruckwarts-hirschco-hannah-schassner/2025-12-02/2/
LOCATION:Gude Sache e.V. Mainhausen\, Schillerstraße 16\, Mainhausen\, Hessen\, 63533\, Deutschland
END:VEVENT
BEGIN:VEVENT
DTSTART;TZID=Europe/Berlin:20251202T090000
DTEND;TZID=Europe/Berlin:20251202T100000
DTSTAMP:20260421T131911
CREATED:20250711T083000Z
LAST-MODIFIED:20250711T083000Z
UID:10000151-1764666000-1764669600@kaleidoskop-hessen.de
SUMMARY:Rückwärts. (Hirsch&Co & Hannah Schassner)
DESCRIPTION:
URL:https://kaleidoskop-hessen.de/event/ruckwarts-hirschco-hannah-schassner/2025-12-02/1/
LOCATION:Gude Sache e.V. Mainhausen\, Schillerstraße 16\, Mainhausen\, Hessen\, 63533\, Deutschland
END:VEVENT
END:VCALENDAR