BEGIN:VCALENDAR
VERSION:2.0
PRODID:-//Kaleidoskop - ECPv6.15.18//NONSGML v1.0//EN
CALSCALE:GREGORIAN
METHOD:PUBLISH
X-ORIGINAL-URL:https://kaleidoskop-hessen.de
X-WR-CALDESC:Events for Kaleidoskop
REFRESH-INTERVAL;VALUE=DURATION:PT1H
X-Robots-Tag:noindex
X-PUBLISHED-TTL:PT1H
BEGIN:VTIMEZONE
TZID:Europe/Berlin
BEGIN:DAYLIGHT
TZOFFSETFROM:+0100
TZOFFSETTO:+0200
TZNAME:CEST
DTSTART:20230326T010000
END:DAYLIGHT
BEGIN:STANDARD
TZOFFSETFROM:+0200
TZOFFSETTO:+0100
TZNAME:CET
DTSTART:20231029T010000
END:STANDARD
BEGIN:DAYLIGHT
TZOFFSETFROM:+0100
TZOFFSETTO:+0200
TZNAME:CEST
DTSTART:20240331T010000
END:DAYLIGHT
BEGIN:STANDARD
TZOFFSETFROM:+0200
TZOFFSETTO:+0100
TZNAME:CET
DTSTART:20241027T010000
END:STANDARD
BEGIN:DAYLIGHT
TZOFFSETFROM:+0100
TZOFFSETTO:+0200
TZNAME:CEST
DTSTART:20250330T010000
END:DAYLIGHT
BEGIN:STANDARD
TZOFFSETFROM:+0200
TZOFFSETTO:+0100
TZNAME:CET
DTSTART:20251026T010000
END:STANDARD
BEGIN:DAYLIGHT
TZOFFSETFROM:+0100
TZOFFSETTO:+0200
TZNAME:CEST
DTSTART:20260329T010000
END:DAYLIGHT
BEGIN:STANDARD
TZOFFSETFROM:+0200
TZOFFSETTO:+0100
TZNAME:CET
DTSTART:20261025T010000
END:STANDARD
END:VTIMEZONE
BEGIN:VEVENT
DTSTART;TZID=Europe/Berlin:20251201T090000
DTEND;TZID=Europe/Berlin:20251201T100000
DTSTAMP:20260421T132811
CREATED:20250702T104320Z
LAST-MODIFIED:20250711T074143Z
UID:10000138-1764579600-1764583200@kaleidoskop-hessen.de
SUMMARY:Konzert der stillen Dinge (Kompanie Rüss/Vetter)
DESCRIPTION:
URL:https://kaleidoskop-hessen.de/event/konzert-der-stillen-dinge/2025-12-01/
LOCATION:Kino Traumstern Lich
END:VEVENT
BEGIN:VEVENT
DTSTART;TZID=Europe/Berlin:20251130T143000
DTEND;TZID=Europe/Berlin:20251130T153000
DTSTAMP:20260421T132811
CREATED:20250702T104320Z
LAST-MODIFIED:20250711T074143Z
UID:10000137-1764513000-1764516600@kaleidoskop-hessen.de
SUMMARY:Konzert der stillen Dinge (Kompanie Rüss/Vetter)
DESCRIPTION:
URL:https://kaleidoskop-hessen.de/event/konzert-der-stillen-dinge/2025-11-30/
LOCATION:Kino Traumstern Lich
END:VEVENT
BEGIN:VEVENT
DTSTART;TZID=Europe/Berlin:20251102T143000
DTEND;TZID=Europe/Berlin:20251102T153000
DTSTAMP:20260421T132811
CREATED:20250711T075656Z
LAST-MODIFIED:20250711T075806Z
UID:10000146-1762093800-1762097400@kaleidoskop-hessen.de
SUMMARY:Schleichweg (Theater Kunstdünger)
DESCRIPTION:
URL:https://kaleidoskop-hessen.de/event/schleichweg-theater-kunstdunger/
LOCATION:Kino Traumstern Lich
END:VEVENT
BEGIN:VEVENT
DTSTART;TZID=Europe/Berlin:20250921T143000
DTEND;TZID=Europe/Berlin:20250921T153000
DTSTAMP:20260421T132811
CREATED:20250702T104754Z
LAST-MODIFIED:20250711T074410Z
UID:10000139-1758465000-1758468600@kaleidoskop-hessen.de
SUMMARY:elephant walk (Hennermanns Horde)
DESCRIPTION:
URL:https://kaleidoskop-hessen.de/event/elephant-walk/
LOCATION:Kino Traumstern Lich
END:VEVENT
BEGIN:VEVENT
DTSTART;TZID=Europe/Berlin:20241201T143000
DTEND;TZID=Europe/Berlin:20241201T153000
DTSTAMP:20260421T132811
CREATED:20240812T073659Z
LAST-MODIFIED:20240812T073659Z
UID:10000116-1733063400-1733067000@kaleidoskop-hessen.de
SUMMARY:Geheimlich
DESCRIPTION:
URL:https://kaleidoskop-hessen.de/event/geheimlich-3/
LOCATION:Kino Traumstern Lich
END:VEVENT
BEGIN:VEVENT
DTSTART;TZID=Europe/Berlin:20241013T143000
DTEND;TZID=Europe/Berlin:20241013T153000
DTSTAMP:20260421T132811
CREATED:20240812T065822Z
LAST-MODIFIED:20240812T065822Z
UID:10000091-1728829800-1728833400@kaleidoskop-hessen.de
SUMMARY:Das Neinhorn
DESCRIPTION:
URL:https://kaleidoskop-hessen.de/event/das-neinhorn-5/
LOCATION:Kino Traumstern Lich
END:VEVENT
END:VCALENDAR