BEGIN:VCALENDAR
VERSION:2.0
PRODID:-//Kaleidoskop - ECPv6.15.18//NONSGML v1.0//EN
CALSCALE:GREGORIAN
METHOD:PUBLISH
X-WR-CALNAME:Kaleidoskop
X-ORIGINAL-URL:https://kaleidoskop-hessen.de
X-WR-CALDESC:Events for Kaleidoskop
REFRESH-INTERVAL;VALUE=DURATION:PT1H
X-Robots-Tag:noindex
X-PUBLISHED-TTL:PT1H
BEGIN:VTIMEZONE
TZID:Europe/Berlin
BEGIN:DAYLIGHT
TZOFFSETFROM:+0100
TZOFFSETTO:+0200
TZNAME:CEST
DTSTART:20220327T010000
END:DAYLIGHT
BEGIN:STANDARD
TZOFFSETFROM:+0200
TZOFFSETTO:+0100
TZNAME:CET
DTSTART:20221030T010000
END:STANDARD
BEGIN:DAYLIGHT
TZOFFSETFROM:+0100
TZOFFSETTO:+0200
TZNAME:CEST
DTSTART:20230326T010000
END:DAYLIGHT
BEGIN:STANDARD
TZOFFSETFROM:+0200
TZOFFSETTO:+0100
TZNAME:CET
DTSTART:20231029T010000
END:STANDARD
BEGIN:DAYLIGHT
TZOFFSETFROM:+0100
TZOFFSETTO:+0200
TZNAME:CEST
DTSTART:20240331T010000
END:DAYLIGHT
BEGIN:STANDARD
TZOFFSETFROM:+0200
TZOFFSETTO:+0100
TZNAME:CET
DTSTART:20241027T010000
END:STANDARD
END:VTIMEZONE
BEGIN:VEVENT
DTSTART;TZID=Europe/Berlin:20230920T170000
DTEND;TZID=Europe/Berlin:20230920T180000
DTSTAMP:20260421T224005
CREATED:20230705T202700Z
LAST-MODIFIED:20230705T202700Z
UID:10000054-1695229200-1695232800@kaleidoskop-hessen.de
SUMMARY:Diktat
DESCRIPTION:
URL:https://kaleidoskop-hessen.de/event/diktat-2/
LOCATION:Stadtteilzentrum Schelmengraben\, Wiesbaden\, Hessen\, Deutschland
END:VEVENT
BEGIN:VEVENT
DTSTART;TZID=Europe/Berlin:20230920T110000
DTEND;TZID=Europe/Berlin:20230920T120000
DTSTAMP:20260421T224005
CREATED:20230705T202623Z
LAST-MODIFIED:20230705T202623Z
UID:10000053-1695207600-1695211200@kaleidoskop-hessen.de
SUMMARY:Diktat
DESCRIPTION:
URL:https://kaleidoskop-hessen.de/event/diktat/
LOCATION:Stadtteilzentrum Schelmengraben\, Wiesbaden\, Hessen\, Deutschland
END:VEVENT
END:VCALENDAR