BEGIN:VCALENDAR
VERSION:2.0
PRODID:-//Kaleidoskop - ECPv6.15.18//NONSGML v1.0//EN
CALSCALE:GREGORIAN
METHOD:PUBLISH
X-WR-CALNAME:Kaleidoskop
X-ORIGINAL-URL:https://kaleidoskop-hessen.de
X-WR-CALDESC:Events for Kaleidoskop
REFRESH-INTERVAL;VALUE=DURATION:PT1H
X-Robots-Tag:noindex
X-PUBLISHED-TTL:PT1H
BEGIN:VTIMEZONE
TZID:Europe/Berlin
BEGIN:DAYLIGHT
TZOFFSETFROM:+0100
TZOFFSETTO:+0200
TZNAME:CEST
DTSTART:20220327T010000
END:DAYLIGHT
BEGIN:STANDARD
TZOFFSETFROM:+0200
TZOFFSETTO:+0100
TZNAME:CET
DTSTART:20221030T010000
END:STANDARD
BEGIN:DAYLIGHT
TZOFFSETFROM:+0100
TZOFFSETTO:+0200
TZNAME:CEST
DTSTART:20230326T010000
END:DAYLIGHT
BEGIN:STANDARD
TZOFFSETFROM:+0200
TZOFFSETTO:+0100
TZNAME:CET
DTSTART:20231029T010000
END:STANDARD
BEGIN:DAYLIGHT
TZOFFSETFROM:+0100
TZOFFSETTO:+0200
TZNAME:CEST
DTSTART:20240331T010000
END:DAYLIGHT
BEGIN:STANDARD
TZOFFSETFROM:+0200
TZOFFSETTO:+0100
TZNAME:CET
DTSTART:20241027T010000
END:STANDARD
END:VTIMEZONE
BEGIN:VEVENT
DTSTART;TZID=Europe/Berlin:20230920T150000
DTEND;TZID=Europe/Berlin:20230920T160000
DTSTAMP:20260422T000347
CREATED:20230705T202404Z
LAST-MODIFIED:20230719T062433Z
UID:10000052-1695222000-1695225600@kaleidoskop-hessen.de
SUMMARY:Nichts oder Herr Käseweis fliegt zum Mond
DESCRIPTION:
URL:https://kaleidoskop-hessen.de/event/nichts-oder-herr-kaeseweis-fliegt-zum-mond-4/
LOCATION:Theater im Palast\, Kochbrunnenplatz 1\, Wiesbaden\, Hessen\, 65183\, Deutschland
END:VEVENT
BEGIN:VEVENT
DTSTART;TZID=Europe/Berlin:20230920T093000
DTEND;TZID=Europe/Berlin:20230920T180000
DTSTAMP:20260422T000347
CREATED:20220906T092836Z
LAST-MODIFIED:20230719T064410Z
UID:10000043-1695202200-1695232800@kaleidoskop-hessen.de
SUMMARY:Eröffnung von kaleidoskop 2023
DESCRIPTION:n Kooperation mit dem Theater im Palast und dem Amt für Soziale Arbeit der Stadt Wiesbaden\n09:30 Uhr Theater im Palast:  Nichts oder Herr Käseweis fliegt zum Mond (ab 5 Jahre) – Andreu Andreu\n10:15 Uhr Offizielle Eröffnung kaleidoskop 2023\n10:30 bis 12:00 Uhr Theater im Palast: Workshop Figuren-Basteln aus Recycling-Material mit Andreu Andreu\n11:00 Uhr Stadtteilzentrum Schelmengraben: Diktat (ab 10 Jahre) – Brachland-Ensemble\n13:00 Uhr Spielplatz\, Kochbrunnenplatz: „Schöne Formen brauchen Farbe“ – Partizipatives Schildermalen\n15:00 Uhr Theater im Palast: Nichts oder Herr Käseweis fliegt zum Mond (ab 5 Jahre) – Andreu Andreu\n17:00 Uhr Stadtteilzentrum Schelmengraben: Diktat (ab 10 Jahre) – Brachland-Ensemble
URL:https://kaleidoskop-hessen.de/event/die-schlautauben-und-das-ganze-gefuehlsdingsda/
LOCATION:Theater im Palast\, Kochbrunnenplatz 1\, Wiesbaden\, Hessen\, 65183\, Deutschland
END:VEVENT
BEGIN:VEVENT
DTSTART;TZID=Europe/Berlin:20230920T093000
DTEND;TZID=Europe/Berlin:20230920T103000
DTSTAMP:20260422T000347
CREATED:20230705T202313Z
LAST-MODIFIED:20230705T202313Z
UID:10000051-1695202200-1695205800@kaleidoskop-hessen.de
SUMMARY:Nichts oder Herr Käseweis fliegt zum Mond
DESCRIPTION:
URL:https://kaleidoskop-hessen.de/event/nichts-oder-herr-kaeseweis-fliegt-zum-mond-3/
LOCATION:Theater im Palast\, Kochbrunnenplatz 1\, Wiesbaden\, Hessen\, 65183\, Deutschland
END:VEVENT
END:VCALENDAR